BEGIN:VCALENDAR
VERSION:2.0
PRODID:-//Brightwell-cum-Sotwell Parish Council//Meeting Calendar//EN
CALSCALE:GREGORIAN
METHOD:PUBLISH
BEGIN:VEVENT
UID:70788-20260324@brightwellcumsotwell-pc.gov.uk
DTSTAMP:20260421T095248Z
DTSTART;VALUE=DATE:20260324
DTEND;VALUE=DATE:20260325
SUMMARY:Parish Council Meeting &#8211\\; 24th March 2026
DESCRIPTION:Full Council Meeting\nView details: https://brightwellcumsotwell-pc.gov.uk/meetings/council-meeting-17th-march-2026/
URL:https://brightwellcumsotwell-pc.gov.uk/meetings/council-meeting-17th-march-2026/
END:VEVENT
END:VCALENDAR
